BEGIN:VCALENDAR
VERSION:2.0
PRODID:-//Llandudno Museum - ECPv6.15.20//NONSGML v1.0//EN
CALSCALE:GREGORIAN
METHOD:PUBLISH
X-ORIGINAL-URL:https://llandudnomuseum.co.uk
X-WR-CALDESC:Events for Llandudno Museum
REFRESH-INTERVAL;VALUE=DURATION:PT1H
X-Robots-Tag:noindex
X-PUBLISHED-TTL:PT1H
BEGIN:VTIMEZONE
TZID:UTC
BEGIN:STANDARD
TZOFFSETFROM:+0000
TZOFFSETTO:+0000
TZNAME:UTC
DTSTART:20230101T000000
END:STANDARD
END:VTIMEZONE
BEGIN:VEVENT
DTSTART;TZID=UTC:20240806T113000
DTEND;TZID=UTC:20240806T123000
DTSTAMP:20260424T015515
CREATED:20240723T104046Z
LAST-MODIFIED:20240723T104051Z
UID:987472061-1722943800-1722947400@llandudnomuseum.co.uk
SUMMARY:Old Llandudno Walk
DESCRIPTION:ONCE UPON A TIME… \nOld Llandudno Walk by Llandudno Museum and Gallery \nExclusive insights into the transition of a small village to a Victorian Bathing Resort. \nLlandudno hasn’t always been a holiday resort. It was once a small village. The purpose of this Walk is to primarily look at Llandudno before the hotels arrived\, to look at Llandudno as a small village and how the town built up around them\, and eventually\, it’s remaking as a Victorian Bathing Resort. \nWalk dates this summer: \n\n2nd July\, 9th July\, 16th July\, 23rd July\, 30th July\n6th August\, 13th August\, 20th August and 27th August\n\nTime: 11.00 am – 12.30 pm \nThe walk starts from the Llandudno museum. Outdoor Activity – Please dress accordingly. \nModerate fitness is advantageous. Suitable for ages 10 and above. \nLimited Places Only!! Book in advance to secure your spot!! \nTickets can be purchased at the museum front desk or booked online. Call 01492 701490 to reserve your place or email desk@llandudnomuseum.co.uk \n\n\nAccess requirements\n\n\nWalk is suitable for 10+\nToilet facilities are available in museum.\n\n\n\n\n\n\n\n \n\n			\n				Tickets\n			\n			\n				\n				\n				\n				\n			\n				\n				\n				\n				\n				\n				\n								\n					\n												← PREVIOUS\n					\n				\n							\n					\n												NEXT →
URL:https://llandudnomuseum.co.uk/event/old-llandudno-walk-2/
LOCATION:Llandudno Museum\, 17-19 Gloddaeth Street\, LLandudno\, Conwy\, LL30 2DD\, United Kingdom
CATEGORIES:Walks
ATTACH;FMTTYPE=:
ORGANIZER;CN="Llandudno Museum &  Gallery":MAILTO:desk@llandudnomuseum.co.uk
END:VEVENT
BEGIN:VEVENT
DTSTART;TZID=UTC:20240803T110000
DTEND;TZID=UTC:20240803T120000
DTSTAMP:20260424T015515
CREATED:20240723T103725Z
LAST-MODIFIED:20240723T103725Z
UID:987472094-1722682800-1722686400@llandudnomuseum.co.uk
SUMMARY:Roman Special: Make Your Own Roman Shield
DESCRIPTION:Attention all craft enthusiasts! Join us for our creative and fun Saturday Special Children’s Crafts this summer. \nFor only £5\, make your very own Roman Shield with Llandudno Museum Team. We will be using recycling materials and everything you need will be provided. \nSession date: Saturday\, 3rd August 2024 \nTime: 11am – 12noon \nLocation: Education Room\, Llandudno Museum \nThis event is suitable for children aged 6-15 years. Please note that children aged 10 and under must be accompanied by an adult. \nSpaces are limited\, so please reserve your child’s place in advance to avoid disappointment. Supervising adult doesn’t need to book a ticket. \n\n\nAccess requirements\n\nLlandudno Museum is fully accessible with toilets and lift facilities. \n\n\n\n\n\n\n\n\n\n\n\n			\n				Tickets\n			\n			\n				\n				\n				\n				\n			\n				\n				\n				\n				\n				\n				\n								\n					\n												← PREVIOUS\n					\n				\n							\n					\n												NEXT →
URL:https://llandudnomuseum.co.uk/event/roman-special-make-your-own-roman-shield/
LOCATION:Llandudno Museum\, 17-19 Gloddaeth Street\, LLandudno\, Conwy\, LL30 2DD\, United Kingdom
CATEGORIES:Craft
ORGANIZER;CN="Llandudno Museum &  Gallery":MAILTO:desk@llandudnomuseum.co.uk
END:VEVENT
BEGIN:VEVENT
DTSTART;TZID=UTC:20240801T130000
DTEND;TZID=UTC:20240801T140000
DTSTAMP:20260424T015515
CREATED:20240723T103625Z
LAST-MODIFIED:20240723T103625Z
UID:987471993-1722517200-1722520800@llandudnomuseum.co.uk
SUMMARY:Echoes of the Slave Trade in North Wales by Dr Jeff Morgan
DESCRIPTION:Join us for a gallery talk\, “Echoes of the Slave Trade in North Wales\,” presented by Dr Jeff Morgan. \nDate: Thursday\, 1st August 2024 \nTime: 1pm – 2pm \nLocation: Llandudno Museum \nThe transatlantic slave trade\, primarily associated with major ports like Liverpool and Bristol\, also had significant yet less recognized connections to North Wales. Join us for this important gallery talk and learn more about the role of North Wales in the slave trade. \nAdmission is £5 per person or Free with Seasonal Pass. \n\n\nAccess requirements\n\nLlandudno Museum is fully accessible with toilets and lift facilities. \n\n\n			\n				Tickets\n			\n			\n				\n				\n				\n				\n			\n				\n				\n				\n				\n				\n				\n								\n					\n												← PREVIOUS\n					\n				\n							\n					\n												NEXT →
URL:https://llandudnomuseum.co.uk/event/echoes-of-the-slave-trade-in-north-wales-by-dr-jeff-morgan/
LOCATION:Llandudno Museum\, 17-19 Gloddaeth Street\, LLandudno\, Conwy\, LL30 2DD\, United Kingdom
CATEGORIES:Gallery Talks
ORGANIZER;CN="Llandudno Museum &  Gallery":MAILTO:desk@llandudnomuseum.co.uk
END:VEVENT
BEGIN:VEVENT
DTSTART;TZID=UTC:20240801T110000
DTEND;TZID=UTC:20240801T123000
DTSTAMP:20260424T015515
CREATED:20240723T103445Z
LAST-MODIFIED:20240723T103451Z
UID:987472010-1722510000-1722515400@llandudnomuseum.co.uk
SUMMARY:Heritage Walk
DESCRIPTION:Join Llandudno Museum and Gallery for an enchanting journey through time on our exclusive Heritage Walk in Llandudno town! \nOur expert guides will lead you through the charming streets of this historical town\, starting from the Llandudno Museum and Gallery itself. \nWalk dates this summer: \n\n4th July\, 11th July\, 18th July and 25th July\n1st August\, 8th August\, 15th August\, 22nd August and 29th August\n\nTime: 11.00 am – 12.30 pm \nImmerse yourself in the fascinating tales\, legends\, and mysteries as we uncover Llandudno’s hidden secrets. From its beginnings as a humble fishing village to its transformation into a fashionable Victorian seaside resort\, the heritage walk will provide valuable insights into the local history that shaped Llandudno into the captivating destination it is today. \nWhether you are a local history enthusiast\, a curious traveller\, or simply looking for a delightful day out\, our heritage walk promises to be an unforgettable experience suitable for ages 10 and above. \nBook your place now\, and let Llandudno’s past come to life before your very eyes! \n\n\nAccess requirements\n\n\nSuitable for 10+\nToilets available at museum.\n\n\n\n			\n				Tickets\n			\n			\n				\n				\n				\n				\n			\n				\n				\n				\n				\n				\n				\n								\n					\n												← PREVIOUS\n					\n				\n							\n					\n												NEXT →
URL:https://llandudnomuseum.co.uk/event/heritage-walk-2/
LOCATION:Llandudno Museum\, 17-19 Gloddaeth Street\, LLandudno\, Conwy\, LL30 2DD\, United Kingdom
CATEGORIES:Walks
ORGANIZER;CN="Llandudno Museum &  Gallery":MAILTO:desk@llandudnomuseum.co.uk
END:VEVENT
END:VCALENDAR