BEGIN:VCALENDAR
VERSION:2.0
PRODID:-//Llandudno Museum - ECPv6.15.20//NONSGML v1.0//EN
CALSCALE:GREGORIAN
METHOD:PUBLISH
X-WR-CALNAME:Llandudno Museum
X-ORIGINAL-URL:https://llandudnomuseum.co.uk
X-WR-CALDESC:Events for Llandudno Museum
REFRESH-INTERVAL;VALUE=DURATION:PT1H
X-Robots-Tag:noindex
X-PUBLISHED-TTL:PT1H
BEGIN:VTIMEZONE
TZID:UTC
BEGIN:STANDARD
TZOFFSETFROM:+0000
TZOFFSETTO:+0000
TZNAME:UTC
DTSTART:20230101T000000
END:STANDARD
END:VTIMEZONE
BEGIN:VEVENT
DTSTART;TZID=UTC:20250902T103000
DTEND;TZID=UTC:20250906T153000
DTSTAMP:20260423T125043
CREATED:20250829T114459Z
LAST-MODIFIED:20250829T114513Z
UID:987473877-1756809000-1757172600@llandudnomuseum.co.uk
SUMMARY:Happy Memories in Llandudno
DESCRIPTION:Happy Memories in Llandudno\nHelp us create a living piece of Llandudno’s history! For a donation of just 50p or £1\, add a flower to our display and share your memory\, photograph\, or story of Llandudno. All memories will be collected into a special book that will become part of the museum’s collection – preserving today’s stories for future generations. Come along\, take part\, and make history with us! \n📅 Date:  2nd September – 6th September 2025📍 Location: Llandudno Museum \nAccess requirements \n\n\nLlandudno Museum is fully accessible with lift and toilet facilities \n\n\n\n\n\n 
URL:https://llandudnomuseum.co.uk/event/happy-memories-in-llandudno/
LOCATION:Llandudno Museum\, 17-19 Gloddaeth Street\, LLandudno\, Conwy\, LL30 2DD\, United Kingdom
CATEGORIES:Fundraising
ATTACH;FMTTYPE=image/jpeg:https://llandudnomuseum.co.uk/wp-content/uploads/2025/08/537863713_18070528430164288_5746532894056867833_n.jpeg
ORGANIZER;CN="Llandudno Museum &  Gallery":MAILTO:desk@llandudnomuseum.co.uk
END:VEVENT
BEGIN:VEVENT
DTSTART;TZID=UTC:20250328T100000
DTEND;TZID=UTC:20250328T160000
DTSTAMP:20260423T125043
CREATED:20250307T130937Z
LAST-MODIFIED:20250307T131035Z
UID:987473120-1743156000-1743177600@llandudnomuseum.co.uk
SUMMARY:Reiki Taster Session - Celebrating Women
DESCRIPTION:Reiki Taster session\nTake a moment to relax and recharge this Spring while supporting a great cause! Join us for a special Reiki session fundraiser with Annie Boden at Llandudno Museum & Gallery. \nSpaces are limited\, so be sure to book your spot! \nPrice: £12 pp for a 30 minute 1:1 session \n📅 Date: 28th March 2025📍 Location: Llandudno Museum🎤 Host: Annie Boden📧 Email: desk@llandudnomuseum.co.uk📞 Call: 01492 701490 \nAccess requirements \n\n\n\nLlandudno Museum is fully accessible with lift and toilet facilities \n\n\n\n\n\n\n \n\n\n\n\n\n\n			\n				\n				\n				\n				\n				Book your spot: desk@llandudnouseum.co.uk01492 701490
URL:https://llandudnomuseum.co.uk/event/987473120/
LOCATION:Llandudno Museum\, 17-19 Gloddaeth Street\, LLandudno\, Conwy\, LL30 2DD\, United Kingdom
CATEGORIES:Fundraising
ATTACH;FMTTYPE=image/png:https://llandudnomuseum.co.uk/wp-content/uploads/2025/03/Screenshot-2025-02-26-at-10.07.57-1533x1536-Medium.png
ORGANIZER;CN="Llandudno Museum &  Gallery":MAILTO:desk@llandudnomuseum.co.uk
END:VEVENT
BEGIN:VEVENT
DTSTART;TZID=UTC:20241213T100000
DTEND;TZID=UTC:20241213T160000
DTSTAMP:20260423T125043
CREATED:20241105T143507Z
LAST-MODIFIED:20241118T143914Z
UID:987472717-1734084000-1734105600@llandudnomuseum.co.uk
SUMMARY:December Reiki Sessions
DESCRIPTION:🌟 Experience Reiki Healing with Master & Teacher Annie Boden – Fundraiser Event! 🌟\nTake a moment to relax and recharge this holiday season while supporting a great cause! Join us for a special Reiki session fundraiser with Annie Boden at Llandudno Museum & Gallery.📅 Date: Friday\, 13th December🕙 Time: 10 AM – 4 PM💷 Donation: £10 for a 30-minute session🎁 Free Treats: Enjoy a mince pie and hot drink on us!📍 Venue: Llandudno Museum & Gallery📧 Email: info@llandudnomuseum.co.uk📞 Call: 01492 701490Spaces are limited\, so don’t miss out – reserve your spot now! ✨ \n\n \n\n			\n			\n				\n				\n				\n				\n			\n				\n				\n				\n				\n				\n				\n								\n					\n												← PREVIOUS\n					\n				\n							\n					\n												NEXT →
URL:https://llandudnomuseum.co.uk/event/behind-the-scenes-tour-3-2/
LOCATION:Llandudno Museum\, 17-19 Gloddaeth Street\, LLandudno\, Conwy\, LL30 2DD\, United Kingdom
CATEGORIES:Fundraising
ORGANIZER;CN="Llandudno Museum &  Gallery":MAILTO:desk@llandudnomuseum.co.uk
END:VEVENT
END:VCALENDAR